BEGIN:VCALENDAR
VERSION:2.0
PRODID:-//St Judes - ECPv6.15.20//NONSGML v1.0//EN
CALSCALE:GREGORIAN
METHOD:PUBLISH
X-WR-CALNAME:St Judes
X-ORIGINAL-URL:https://www.stjudes.wolverhampton.sch.uk
X-WR-CALDESC:Events for St Judes
REFRESH-INTERVAL;VALUE=DURATION:PT1H
X-Robots-Tag:noindex
X-PUBLISHED-TTL:PT1H
BEGIN:VTIMEZONE
TZID:Europe/London
BEGIN:DAYLIGHT
TZOFFSETFROM:+0000
TZOFFSETTO:+0100
TZNAME:BST
DTSTART:20190331T010000
END:DAYLIGHT
BEGIN:STANDARD
TZOFFSETFROM:+0100
TZOFFSETTO:+0000
TZNAME:GMT
DTSTART:20191027T010000
END:STANDARD
BEGIN:DAYLIGHT
TZOFFSETFROM:+0000
TZOFFSETTO:+0100
TZNAME:BST
DTSTART:20200329T010000
END:DAYLIGHT
BEGIN:STANDARD
TZOFFSETFROM:+0100
TZOFFSETTO:+0000
TZNAME:GMT
DTSTART:20201025T010000
END:STANDARD
BEGIN:DAYLIGHT
TZOFFSETFROM:+0000
TZOFFSETTO:+0100
TZNAME:BST
DTSTART:20210328T010000
END:DAYLIGHT
BEGIN:STANDARD
TZOFFSETFROM:+0100
TZOFFSETTO:+0000
TZNAME:GMT
DTSTART:20211031T010000
END:STANDARD
BEGIN:DAYLIGHT
TZOFFSETFROM:+0000
TZOFFSETTO:+0100
TZNAME:BST
DTSTART:20220327T010000
END:DAYLIGHT
BEGIN:STANDARD
TZOFFSETFROM:+0100
TZOFFSETTO:+0000
TZNAME:GMT
DTSTART:20221030T010000
END:STANDARD
BEGIN:DAYLIGHT
TZOFFSETFROM:+0000
TZOFFSETTO:+0100
TZNAME:BST
DTSTART:20230326T010000
END:DAYLIGHT
BEGIN:STANDARD
TZOFFSETFROM:+0100
TZOFFSETTO:+0000
TZNAME:GMT
DTSTART:20231029T010000
END:STANDARD
BEGIN:DAYLIGHT
TZOFFSETFROM:+0000
TZOFFSETTO:+0100
TZNAME:BST
DTSTART:20240331T010000
END:DAYLIGHT
BEGIN:STANDARD
TZOFFSETFROM:+0100
TZOFFSETTO:+0000
TZNAME:GMT
DTSTART:20241027T010000
END:STANDARD
BEGIN:DAYLIGHT
TZOFFSETFROM:+0000
TZOFFSETTO:+0100
TZNAME:BST
DTSTART:20250330T010000
END:DAYLIGHT
BEGIN:STANDARD
TZOFFSETFROM:+0100
TZOFFSETTO:+0000
TZNAME:GMT
DTSTART:20251026T010000
END:STANDARD
BEGIN:DAYLIGHT
TZOFFSETFROM:+0000
TZOFFSETTO:+0100
TZNAME:BST
DTSTART:20260329T010000
END:DAYLIGHT
BEGIN:STANDARD
TZOFFSETFROM:+0100
TZOFFSETTO:+0000
TZNAME:GMT
DTSTART:20261025T010000
END:STANDARD
END:VTIMEZONE
BEGIN:VEVENT
DTSTART;TZID=Europe/London:20250704T080000
DTEND;TZID=Europe/London:20250704T170000
DTSTAMP:20260421T174348
CREATED:20241007T132538Z
LAST-MODIFIED:20241007T132538Z
UID:4438-1751616000-1751648400@www.stjudes.wolverhampton.sch.uk
SUMMARY:Inset Day
DESCRIPTION:
URL:https://www.stjudes.wolverhampton.sch.uk/event/inset-day-28/
CATEGORIES:Inset Day
END:VEVENT
BEGIN:VEVENT
DTSTART;VALUE=DATE:20250224
DTEND;VALUE=DATE:20250225
DTSTAMP:20260421T174348
CREATED:20241007T132439Z
LAST-MODIFIED:20241007T132439Z
UID:4436-1740355200-1740441599@www.stjudes.wolverhampton.sch.uk
SUMMARY:Inset Day
DESCRIPTION:
URL:https://www.stjudes.wolverhampton.sch.uk/event/inset-day-27/
CATEGORIES:Inset Day
END:VEVENT
BEGIN:VEVENT
DTSTART;TZID=Europe/London:20250106T080000
DTEND;TZID=Europe/London:20250106T170000
DTSTAMP:20260421T174348
CREATED:20241007T132324Z
LAST-MODIFIED:20241007T132324Z
UID:4434-1736150400-1736182800@www.stjudes.wolverhampton.sch.uk
SUMMARY:Inset Day
DESCRIPTION:
URL:https://www.stjudes.wolverhampton.sch.uk/event/inset-day-26/
CATEGORIES:Inset Day
END:VEVENT
BEGIN:VEVENT
DTSTART;VALUE=DATE:20241220
DTEND;VALUE=DATE:20241221
DTSTAMP:20260421T174348
CREATED:20241007T132217Z
LAST-MODIFIED:20241007T132217Z
UID:4432-1734652800-1734739199@www.stjudes.wolverhampton.sch.uk
SUMMARY:Inset Day
DESCRIPTION:
URL:https://www.stjudes.wolverhampton.sch.uk/event/inset-day-25/
CATEGORIES:Inset Day
END:VEVENT
BEGIN:VEVENT
DTSTART;TZID=Europe/London:20240902T080000
DTEND;TZID=Europe/London:20240903T170000
DTSTAMP:20260421T174348
CREATED:20241007T132140Z
LAST-MODIFIED:20241007T132140Z
UID:4430-1725264000-1725382800@www.stjudes.wolverhampton.sch.uk
SUMMARY:Inset Day
DESCRIPTION:
URL:https://www.stjudes.wolverhampton.sch.uk/event/inset-day-24/
CATEGORIES:Inset Day
END:VEVENT
BEGIN:VEVENT
DTSTART;VALUE=DATE:20240705
DTEND;VALUE=DATE:20240706
DTSTAMP:20260421T174348
CREATED:20230814T135419Z
LAST-MODIFIED:20230814T135419Z
UID:3636-1720137600-1720223999@www.stjudes.wolverhampton.sch.uk
SUMMARY:Inset Day
DESCRIPTION:
URL:https://www.stjudes.wolverhampton.sch.uk/event/inset-day-22/
CATEGORIES:Inset Day
END:VEVENT
BEGIN:VEVENT
DTSTART;VALUE=DATE:20240219
DTEND;VALUE=DATE:20240220
DTSTAMP:20260421T174348
CREATED:20230814T135336Z
LAST-MODIFIED:20230814T135336Z
UID:3634-1708300800-1708387199@www.stjudes.wolverhampton.sch.uk
SUMMARY:Inset Day
DESCRIPTION:
URL:https://www.stjudes.wolverhampton.sch.uk/event/inset-day-21/
CATEGORIES:Inset Day
END:VEVENT
BEGIN:VEVENT
DTSTART;VALUE=DATE:20240109
DTEND;VALUE=DATE:20240110
DTSTAMP:20260421T174348
CREATED:20231020T133618Z
LAST-MODIFIED:20231020T133618Z
UID:3828-1704758400-1704844799@www.stjudes.wolverhampton.sch.uk
SUMMARY:Inset Day
DESCRIPTION:
URL:https://www.stjudes.wolverhampton.sch.uk/event/inset-day-23/
CATEGORIES:Inset Day
END:VEVENT
BEGIN:VEVENT
DTSTART;VALUE=DATE:20240108
DTEND;VALUE=DATE:20240109
DTSTAMP:20260421T174348
CREATED:20230814T135304Z
LAST-MODIFIED:20230814T135304Z
UID:3632-1704672000-1704758399@www.stjudes.wolverhampton.sch.uk
SUMMARY:Inset Day
DESCRIPTION:
URL:https://www.stjudes.wolverhampton.sch.uk/event/inset-day-20/
CATEGORIES:Inset Day
END:VEVENT
BEGIN:VEVENT
DTSTART;VALUE=DATE:20231222
DTEND;VALUE=DATE:20231223
DTSTAMP:20260421T174348
CREATED:20230814T134532Z
LAST-MODIFIED:20230814T134532Z
UID:3622-1703203200-1703289599@www.stjudes.wolverhampton.sch.uk
SUMMARY:Inset Day
DESCRIPTION:
URL:https://www.stjudes.wolverhampton.sch.uk/event/inset-day-19/
CATEGORIES:Inset Day
END:VEVENT
BEGIN:VEVENT
DTSTART;VALUE=DATE:20230904
DTEND;VALUE=DATE:20230906
DTSTAMP:20260421T174348
CREATED:20230814T134253Z
LAST-MODIFIED:20230814T134253Z
UID:3618-1693785600-1693958399@www.stjudes.wolverhampton.sch.uk
SUMMARY:Inset Days
DESCRIPTION:
URL:https://www.stjudes.wolverhampton.sch.uk/event/inset-days/
CATEGORIES:Inset Day
END:VEVENT
BEGIN:VEVENT
DTSTART;VALUE=DATE:20230707
DTEND;VALUE=DATE:20230708
DTSTAMP:20260421T174348
CREATED:20220803T113354Z
LAST-MODIFIED:20220803T113354Z
UID:3203-1688688000-1688774399@www.stjudes.wolverhampton.sch.uk
SUMMARY:Inset Day
DESCRIPTION:
URL:https://www.stjudes.wolverhampton.sch.uk/event/inset-day-18/
CATEGORIES:Inset Day
END:VEVENT
BEGIN:VEVENT
DTSTART;VALUE=DATE:20230227
DTEND;VALUE=DATE:20230228
DTSTAMP:20260421T174348
CREATED:20220803T113034Z
LAST-MODIFIED:20220803T113034Z
UID:3197-1677456000-1677542399@www.stjudes.wolverhampton.sch.uk
SUMMARY:Inset Day
DESCRIPTION:
URL:https://www.stjudes.wolverhampton.sch.uk/event/inset-day-17/
CATEGORIES:Inset Day
END:VEVENT
BEGIN:VEVENT
DTSTART;VALUE=DATE:20230104
DTEND;VALUE=DATE:20230105
DTSTAMP:20260421T174348
CREATED:20220803T112951Z
LAST-MODIFIED:20220803T112951Z
UID:3195-1672790400-1672876799@www.stjudes.wolverhampton.sch.uk
SUMMARY:Inset Day
DESCRIPTION:
URL:https://www.stjudes.wolverhampton.sch.uk/event/inset-day-16/
CATEGORIES:Inset Day
END:VEVENT
BEGIN:VEVENT
DTSTART;VALUE=DATE:20221216
DTEND;VALUE=DATE:20221217
DTSTAMP:20260421T174348
CREATED:20220803T112533Z
LAST-MODIFIED:20220803T112533Z
UID:3187-1671148800-1671235199@www.stjudes.wolverhampton.sch.uk
SUMMARY:Inset Day
DESCRIPTION:
URL:https://www.stjudes.wolverhampton.sch.uk/event/inset-day-15/
CATEGORIES:Inset Day
END:VEVENT
BEGIN:VEVENT
DTSTART;VALUE=DATE:20221031
DTEND;VALUE=DATE:20221101
DTSTAMP:20260421T174348
CREATED:20220803T112457Z
LAST-MODIFIED:20220803T112457Z
UID:3185-1667174400-1667260799@www.stjudes.wolverhampton.sch.uk
SUMMARY:Inset Day
DESCRIPTION:
URL:https://www.stjudes.wolverhampton.sch.uk/event/inset-day-14/
CATEGORIES:Inset Day
END:VEVENT
BEGIN:VEVENT
DTSTART;VALUE=DATE:20220701
DTEND;VALUE=DATE:20220702
DTSTAMP:20260421T174348
CREATED:20220502T212806Z
LAST-MODIFIED:20220502T212806Z
UID:3020-1656633600-1656719999@www.stjudes.wolverhampton.sch.uk
SUMMARY:Inset Day
DESCRIPTION:
URL:https://www.stjudes.wolverhampton.sch.uk/event/inset-day-13/
CATEGORIES:Inset Day
END:VEVENT
BEGIN:VEVENT
DTSTART;VALUE=DATE:20220505
DTEND;VALUE=DATE:20220506
DTSTAMP:20260421T174348
CREATED:20220502T212849Z
LAST-MODIFIED:20220502T212902Z
UID:3022-1651708800-1651795199@www.stjudes.wolverhampton.sch.uk
SUMMARY:School Closed for Voting
DESCRIPTION:
URL:https://www.stjudes.wolverhampton.sch.uk/event/school-closed-for-voting/
CATEGORIES:Inset Day
END:VEVENT
BEGIN:VEVENT
DTSTART;VALUE=DATE:20220228
DTEND;VALUE=DATE:20220301
DTSTAMP:20260421T174348
CREATED:20210707T180931Z
LAST-MODIFIED:20210707T180931Z
UID:2329-1646006400-1646092799@www.stjudes.wolverhampton.sch.uk
SUMMARY:Inset Day
DESCRIPTION:
URL:https://www.stjudes.wolverhampton.sch.uk/event/inset-day-10/
CATEGORIES:Inset Day
END:VEVENT
BEGIN:VEVENT
DTSTART;VALUE=DATE:20220218
DTEND;VALUE=DATE:20220219
DTSTAMP:20260421T174348
CREATED:20210707T180845Z
LAST-MODIFIED:20210707T180845Z
UID:2327-1645142400-1645228799@www.stjudes.wolverhampton.sch.uk
SUMMARY:Inset Day
DESCRIPTION:
URL:https://www.stjudes.wolverhampton.sch.uk/event/inset-day-9/
CATEGORIES:Inset Day
END:VEVENT
BEGIN:VEVENT
DTSTART;VALUE=DATE:20220104
DTEND;VALUE=DATE:20220105
DTSTAMP:20260421T174348
CREATED:20211212T204047Z
LAST-MODIFIED:20211212T204047Z
UID:2810-1641254400-1641340799@www.stjudes.wolverhampton.sch.uk
SUMMARY:Inset Day
DESCRIPTION:
URL:https://www.stjudes.wolverhampton.sch.uk/event/inset-day-12/
CATEGORIES:Inset Day
END:VEVENT
BEGIN:VEVENT
DTSTART;VALUE=DATE:20211217
DTEND;VALUE=DATE:20211218
DTSTAMP:20260421T174348
CREATED:20210707T175738Z
LAST-MODIFIED:20210707T175738Z
UID:2314-1639699200-1639785599@www.stjudes.wolverhampton.sch.uk
SUMMARY:Inset Day
DESCRIPTION:
URL:https://www.stjudes.wolverhampton.sch.uk/event/inset-day-8/
CATEGORIES:Inset Day
END:VEVENT
BEGIN:VEVENT
DTSTART;VALUE=DATE:20211022
DTEND;VALUE=DATE:20211023
DTSTAMP:20260421T174348
CREATED:20210707T175647Z
LAST-MODIFIED:20210707T175647Z
UID:2312-1634860800-1634947199@www.stjudes.wolverhampton.sch.uk
SUMMARY:Inset Day
DESCRIPTION:
URL:https://www.stjudes.wolverhampton.sch.uk/event/inset-day-7/
CATEGORIES:Inset Day
END:VEVENT
BEGIN:VEVENT
DTSTART;VALUE=DATE:20210702
DTEND;VALUE=DATE:20210703
DTSTAMP:20260421T174348
CREATED:20210113T135111Z
LAST-MODIFIED:20210113T135111Z
UID:1486-1625184000-1625270399@www.stjudes.wolverhampton.sch.uk
SUMMARY:Inset Day
DESCRIPTION:
URL:https://www.stjudes.wolverhampton.sch.uk/event/inset-day-6/
CATEGORIES:Inset Day
END:VEVENT
BEGIN:VEVENT
DTSTART;VALUE=DATE:20210607
DTEND;VALUE=DATE:20210608
DTSTAMP:20260421T174348
CREATED:20210520T190421Z
LAST-MODIFIED:20210520T190421Z
UID:2200-1623024000-1623110399@www.stjudes.wolverhampton.sch.uk
SUMMARY:Inset Day
DESCRIPTION:
URL:https://www.stjudes.wolverhampton.sch.uk/event/inset-day-5/
CATEGORIES:Inset Day
END:VEVENT
BEGIN:VEVENT
DTSTART;VALUE=DATE:20210105
DTEND;VALUE=DATE:20210106
DTSTAMP:20260421T174348
CREATED:20210113T134152Z
LAST-MODIFIED:20210113T134152Z
UID:1467-1609804800-1609891199@www.stjudes.wolverhampton.sch.uk
SUMMARY:Inset Day
DESCRIPTION:
URL:https://www.stjudes.wolverhampton.sch.uk/event/inset-day-4/
CATEGORIES:Inset Day
END:VEVENT
BEGIN:VEVENT
DTSTART;VALUE=DATE:20210104
DTEND;VALUE=DATE:20210105
DTSTAMP:20260421T174348
CREATED:20210113T134127Z
LAST-MODIFIED:20210113T134127Z
UID:1465-1609718400-1609804799@www.stjudes.wolverhampton.sch.uk
SUMMARY:Inset Day
DESCRIPTION:
URL:https://www.stjudes.wolverhampton.sch.uk/event/inset-day-3/
CATEGORIES:Inset Day
END:VEVENT
BEGIN:VEVENT
DTSTART;VALUE=DATE:20201218
DTEND;VALUE=DATE:20201219
DTSTAMP:20260421T174348
CREATED:20210113T133809Z
LAST-MODIFIED:20210113T133809Z
UID:1461-1608249600-1608335999@www.stjudes.wolverhampton.sch.uk
SUMMARY:Inset Day
DESCRIPTION:
URL:https://www.stjudes.wolverhampton.sch.uk/event/inset-day-2/
CATEGORIES:Inset Day
END:VEVENT
BEGIN:VEVENT
DTSTART;VALUE=DATE:20200901
DTEND;VALUE=DATE:20200902
DTSTAMP:20260421T174348
CREATED:20210113T133415Z
LAST-MODIFIED:20210113T133558Z
UID:1452-1598918400-1599004799@www.stjudes.wolverhampton.sch.uk
SUMMARY:Inset Day
DESCRIPTION:
URL:https://www.stjudes.wolverhampton.sch.uk/event/inset-day/
CATEGORIES:Inset Day
END:VEVENT
END:VCALENDAR