BEGIN:VCALENDAR
VERSION:2.0
PRODID:-//St Judes - ECPv6.15.20//NONSGML v1.0//EN
CALSCALE:GREGORIAN
METHOD:PUBLISH
X-ORIGINAL-URL:https://www.stjudes.wolverhampton.sch.uk
X-WR-CALDESC:Events for St Judes
REFRESH-INTERVAL;VALUE=DURATION:PT1H
X-Robots-Tag:noindex
X-PUBLISHED-TTL:PT1H
BEGIN:VTIMEZONE
TZID:Europe/London
BEGIN:DAYLIGHT
TZOFFSETFROM:+0000
TZOFFSETTO:+0100
TZNAME:BST
DTSTART:20190331T010000
END:DAYLIGHT
BEGIN:STANDARD
TZOFFSETFROM:+0100
TZOFFSETTO:+0000
TZNAME:GMT
DTSTART:20191027T010000
END:STANDARD
BEGIN:DAYLIGHT
TZOFFSETFROM:+0000
TZOFFSETTO:+0100
TZNAME:BST
DTSTART:20200329T010000
END:DAYLIGHT
BEGIN:STANDARD
TZOFFSETFROM:+0100
TZOFFSETTO:+0000
TZNAME:GMT
DTSTART:20201025T010000
END:STANDARD
BEGIN:DAYLIGHT
TZOFFSETFROM:+0000
TZOFFSETTO:+0100
TZNAME:BST
DTSTART:20210328T010000
END:DAYLIGHT
BEGIN:STANDARD
TZOFFSETFROM:+0100
TZOFFSETTO:+0000
TZNAME:GMT
DTSTART:20211031T010000
END:STANDARD
BEGIN:DAYLIGHT
TZOFFSETFROM:+0000
TZOFFSETTO:+0100
TZNAME:BST
DTSTART:20220327T010000
END:DAYLIGHT
BEGIN:STANDARD
TZOFFSETFROM:+0100
TZOFFSETTO:+0000
TZNAME:GMT
DTSTART:20221030T010000
END:STANDARD
END:VTIMEZONE
BEGIN:VEVENT
DTSTART;VALUE=DATE:20210607
DTEND;VALUE=DATE:20210608
DTSTAMP:20260423T101845
CREATED:20210520T190421Z
LAST-MODIFIED:20210520T190421Z
UID:2200-1623024000-1623110399@www.stjudes.wolverhampton.sch.uk
SUMMARY:Inset Day
DESCRIPTION:
URL:https://www.stjudes.wolverhampton.sch.uk/event/inset-day-5/
CATEGORIES:Inset Day
END:VEVENT
BEGIN:VEVENT
DTSTART;VALUE=DATE:20210105
DTEND;VALUE=DATE:20210106
DTSTAMP:20260423T101845
CREATED:20210113T134152Z
LAST-MODIFIED:20210113T134152Z
UID:1467-1609804800-1609891199@www.stjudes.wolverhampton.sch.uk
SUMMARY:Inset Day
DESCRIPTION:
URL:https://www.stjudes.wolverhampton.sch.uk/event/inset-day-4/
CATEGORIES:Inset Day
END:VEVENT
BEGIN:VEVENT
DTSTART;VALUE=DATE:20210104
DTEND;VALUE=DATE:20210105
DTSTAMP:20260423T101845
CREATED:20210113T134127Z
LAST-MODIFIED:20210113T134127Z
UID:1465-1609718400-1609804799@www.stjudes.wolverhampton.sch.uk
SUMMARY:Inset Day
DESCRIPTION:
URL:https://www.stjudes.wolverhampton.sch.uk/event/inset-day-3/
CATEGORIES:Inset Day
END:VEVENT
BEGIN:VEVENT
DTSTART;VALUE=DATE:20201218
DTEND;VALUE=DATE:20201219
DTSTAMP:20260423T101845
CREATED:20210113T133809Z
LAST-MODIFIED:20210113T133809Z
UID:1461-1608249600-1608335999@www.stjudes.wolverhampton.sch.uk
SUMMARY:Inset Day
DESCRIPTION:
URL:https://www.stjudes.wolverhampton.sch.uk/event/inset-day-2/
CATEGORIES:Inset Day
END:VEVENT
BEGIN:VEVENT
DTSTART;VALUE=DATE:20200901
DTEND;VALUE=DATE:20200902
DTSTAMP:20260423T101845
CREATED:20210113T133415Z
LAST-MODIFIED:20210113T133558Z
UID:1452-1598918400-1599004799@www.stjudes.wolverhampton.sch.uk
SUMMARY:Inset Day
DESCRIPTION:
URL:https://www.stjudes.wolverhampton.sch.uk/event/inset-day/
CATEGORIES:Inset Day
END:VEVENT
END:VCALENDAR