BEGIN:VCALENDAR
VERSION:2.0
PRODID:-//St Judes - ECPv6.15.20//NONSGML v1.0//EN
CALSCALE:GREGORIAN
METHOD:PUBLISH
X-WR-CALNAME:St Judes
X-ORIGINAL-URL:https://www.stjudes.wolverhampton.sch.uk
X-WR-CALDESC:Events for St Judes
REFRESH-INTERVAL;VALUE=DURATION:PT1H
X-Robots-Tag:noindex
X-PUBLISHED-TTL:PT1H
BEGIN:VTIMEZONE
TZID:Europe/London
BEGIN:DAYLIGHT
TZOFFSETFROM:+0000
TZOFFSETTO:+0100
TZNAME:BST
DTSTART:20200329T010000
END:DAYLIGHT
BEGIN:STANDARD
TZOFFSETFROM:+0100
TZOFFSETTO:+0000
TZNAME:GMT
DTSTART:20201025T010000
END:STANDARD
BEGIN:DAYLIGHT
TZOFFSETFROM:+0000
TZOFFSETTO:+0100
TZNAME:BST
DTSTART:20210328T010000
END:DAYLIGHT
BEGIN:STANDARD
TZOFFSETFROM:+0100
TZOFFSETTO:+0000
TZNAME:GMT
DTSTART:20211031T010000
END:STANDARD
BEGIN:DAYLIGHT
TZOFFSETFROM:+0000
TZOFFSETTO:+0100
TZNAME:BST
DTSTART:20220327T010000
END:DAYLIGHT
BEGIN:STANDARD
TZOFFSETFROM:+0100
TZOFFSETTO:+0000
TZNAME:GMT
DTSTART:20221030T010000
END:STANDARD
BEGIN:DAYLIGHT
TZOFFSETFROM:+0000
TZOFFSETTO:+0100
TZNAME:BST
DTSTART:20230326T010000
END:DAYLIGHT
BEGIN:STANDARD
TZOFFSETFROM:+0100
TZOFFSETTO:+0000
TZNAME:GMT
DTSTART:20231029T010000
END:STANDARD
BEGIN:DAYLIGHT
TZOFFSETFROM:+0000
TZOFFSETTO:+0100
TZNAME:BST
DTSTART:20240331T010000
END:DAYLIGHT
BEGIN:STANDARD
TZOFFSETFROM:+0100
TZOFFSETTO:+0000
TZNAME:GMT
DTSTART:20241027T010000
END:STANDARD
END:VTIMEZONE
BEGIN:VEVENT
DTSTART;TZID=Europe/London:20231006T073000
DTEND;TZID=Europe/London:20231006T090000
DTSTAMP:20260421T191001
CREATED:20231004T101241Z
LAST-MODIFIED:20231004T101341Z
UID:3787-1696577400-1696582800@www.stjudes.wolverhampton.sch.uk
SUMMARY:Community Breakfast
DESCRIPTION:
URL:https://www.stjudes.wolverhampton.sch.uk/event/community-breakfast/
CATEGORIES:School Event
END:VEVENT
BEGIN:VEVENT
DTSTART;VALUE=DATE:20220923
DTEND;VALUE=DATE:20220924
DTSTAMP:20260421T191001
CREATED:20220915T051308Z
LAST-MODIFIED:20220915T051332Z
UID:3223-1663891200-1663977599@www.stjudes.wolverhampton.sch.uk
SUMMARY:Jeans for Genes
DESCRIPTION:
URL:https://www.stjudes.wolverhampton.sch.uk/event/jeans-for-genes/
CATEGORIES:School Event
END:VEVENT
BEGIN:VEVENT
DTSTART;VALUE=DATE:20220913
DTEND;VALUE=DATE:20220914
DTSTAMP:20260421T191001
CREATED:20220803T114218Z
LAST-MODIFIED:20220803T114218Z
UID:3215-1663027200-1663113599@www.stjudes.wolverhampton.sch.uk
SUMMARY:Return to School
DESCRIPTION:Nursery and Two’s Return to School.
URL:https://www.stjudes.wolverhampton.sch.uk/event/return-to-school-3/
CATEGORIES:School Event
END:VEVENT
BEGIN:VEVENT
DTSTART;VALUE=DATE:20220908
DTEND;VALUE=DATE:20220909
DTSTAMP:20260421T191001
CREATED:20220803T114125Z
LAST-MODIFIED:20220803T114125Z
UID:3213-1662595200-1662681599@www.stjudes.wolverhampton.sch.uk
SUMMARY:Return to School
DESCRIPTION:Year 4\, Year 5\, Year 6 and Reception return to school.
URL:https://www.stjudes.wolverhampton.sch.uk/event/return-to-school-2/
CATEGORIES:School Event
END:VEVENT
BEGIN:VEVENT
DTSTART;VALUE=DATE:20220907
DTEND;VALUE=DATE:20220908
DTSTAMP:20260421T191001
CREATED:20220803T114019Z
LAST-MODIFIED:20220803T114019Z
UID:3211-1662508800-1662595199@www.stjudes.wolverhampton.sch.uk
SUMMARY:Return to School
DESCRIPTION:Year 1\, Year 2 and Year 3 return to school.
URL:https://www.stjudes.wolverhampton.sch.uk/event/return-to-school/
CATEGORIES:School Event
END:VEVENT
BEGIN:VEVENT
DTSTART;TZID=Europe/London:20220621T133000
DTEND;TZID=Europe/London:20220621T143000
DTSTAMP:20260421T191001
CREATED:20220507T195859Z
LAST-MODIFIED:20220507T195859Z
UID:3034-1655818200-1655821800@www.stjudes.wolverhampton.sch.uk
SUMMARY:Sports Day- Reception
DESCRIPTION:
URL:https://www.stjudes.wolverhampton.sch.uk/event/sports-day-reception/
CATEGORIES:School Event
END:VEVENT
BEGIN:VEVENT
DTSTART;TZID=Europe/London:20220621T093000
DTEND;TZID=Europe/London:20220621T103000
DTSTAMP:20260421T191001
CREATED:20220507T195810Z
LAST-MODIFIED:20220507T195810Z
UID:3032-1655803800-1655807400@www.stjudes.wolverhampton.sch.uk
SUMMARY:Sports Day- Year 1 and 2
DESCRIPTION:
URL:https://www.stjudes.wolverhampton.sch.uk/event/sports-day-year-1-and-2/
CATEGORIES:School Event
END:VEVENT
BEGIN:VEVENT
DTSTART;TZID=Europe/London:20220620T133000
DTEND;TZID=Europe/London:20220620T143000
DTSTAMP:20260421T191001
CREATED:20220507T195719Z
LAST-MODIFIED:20220507T195719Z
UID:3030-1655731800-1655735400@www.stjudes.wolverhampton.sch.uk
SUMMARY:Sports Day- Year 5 and 6
DESCRIPTION:
URL:https://www.stjudes.wolverhampton.sch.uk/event/sports-day-year-5-and-6/
CATEGORIES:School Event
END:VEVENT
BEGIN:VEVENT
DTSTART;TZID=Europe/London:20220620T093000
DTEND;TZID=Europe/London:20220620T100000
DTSTAMP:20260421T191001
CREATED:20220507T195616Z
LAST-MODIFIED:20220507T195616Z
UID:3028-1655717400-1655719200@www.stjudes.wolverhampton.sch.uk
SUMMARY:Sports Day- Year 3 and 4
DESCRIPTION:
URL:https://www.stjudes.wolverhampton.sch.uk/event/sports-day-year-3-and-4/
CATEGORIES:School Event
END:VEVENT
BEGIN:VEVENT
DTSTART;VALUE=DATE:20220527
DTEND;VALUE=DATE:20220528
DTSTAMP:20260421T191001
CREATED:20220507T200007Z
LAST-MODIFIED:20220507T200044Z
UID:3036-1653609600-1653695999@www.stjudes.wolverhampton.sch.uk
SUMMARY:Jubilee Day
DESCRIPTION:To celebrate the Queen’s Jubilee\, we would like the pupils to come into school dressed in red\, white and blue clothing. The children will also have an arts and craft day to celebrate. Children will also be able to have school dinner for free on this day.
URL:https://www.stjudes.wolverhampton.sch.uk/event/jubilee-day/
CATEGORIES:School Event
END:VEVENT
BEGIN:VEVENT
DTSTART;TZID=Europe/London:20220519T140000
DTEND;TZID=Europe/London:20220519T150000
DTSTAMP:20260421T191001
CREATED:20220507T195416Z
LAST-MODIFIED:20220507T195416Z
UID:3026-1652968800-1652972400@www.stjudes.wolverhampton.sch.uk
SUMMARY:Edgmond Hall Assembly- Year 4
DESCRIPTION:
URL:https://www.stjudes.wolverhampton.sch.uk/event/edgmond-hall-assembly-year-4/
CATEGORIES:School Event
END:VEVENT
BEGIN:VEVENT
DTSTART;VALUE=DATE:20220317
DTEND;VALUE=DATE:20220318
DTSTAMP:20260421T191001
CREATED:20220307T234031Z
LAST-MODIFIED:20220307T234031Z
UID:2997-1647475200-1647561599@www.stjudes.wolverhampton.sch.uk
SUMMARY:School Photographer
DESCRIPTION:
URL:https://www.stjudes.wolverhampton.sch.uk/event/school-photographer/
CATEGORIES:School Event
END:VEVENT
BEGIN:VEVENT
DTSTART;VALUE=DATE:20220302
DTEND;VALUE=DATE:20220303
DTSTAMP:20260421T191001
CREATED:20220209T201435Z
LAST-MODIFIED:20220209T201435Z
UID:2990-1646179200-1646265599@www.stjudes.wolverhampton.sch.uk
SUMMARY:Reception Parent Meetings
DESCRIPTION:
URL:https://www.stjudes.wolverhampton.sch.uk/event/reception-parent-meetings-2/
CATEGORIES:School Event
END:VEVENT
BEGIN:VEVENT
DTSTART;VALUE=DATE:20220217
DTEND;VALUE=DATE:20220218
DTSTAMP:20260421T191001
CREATED:20220209T201257Z
LAST-MODIFIED:20220209T201257Z
UID:2988-1645056000-1645142399@www.stjudes.wolverhampton.sch.uk
SUMMARY:Year 3 and 4 Parent Meetings
DESCRIPTION:
URL:https://www.stjudes.wolverhampton.sch.uk/event/year-3-and-4-parent-meetings-2/
CATEGORIES:School Event
END:VEVENT
BEGIN:VEVENT
DTSTART;VALUE=DATE:20220216
DTEND;VALUE=DATE:20220217
DTSTAMP:20260421T191001
CREATED:20220209T200916Z
LAST-MODIFIED:20220209T200916Z
UID:2984-1644969600-1645055999@www.stjudes.wolverhampton.sch.uk
SUMMARY:Year 5 and 6 Parent Meetings
DESCRIPTION:
URL:https://www.stjudes.wolverhampton.sch.uk/event/year-5-and-6-parent-meetings-2/
CATEGORIES:School Event
END:VEVENT
BEGIN:VEVENT
DTSTART;VALUE=DATE:20220215
DTEND;VALUE=DATE:20220216
DTSTAMP:20260421T191001
CREATED:20220209T201012Z
LAST-MODIFIED:20220209T201012Z
UID:2986-1644883200-1644969599@www.stjudes.wolverhampton.sch.uk
SUMMARY:Year 1 and 2 Parent Meetings
DESCRIPTION:
URL:https://www.stjudes.wolverhampton.sch.uk/event/year-1-and-2-parent-meetings-2/
CATEGORIES:School Event
END:VEVENT
BEGIN:VEVENT
DTSTART;VALUE=DATE:20211216
DTEND;VALUE=DATE:20211217
DTSTAMP:20260421T191001
CREATED:20211212T204203Z
LAST-MODIFIED:20211212T204203Z
UID:2812-1639612800-1639699199@www.stjudes.wolverhampton.sch.uk
SUMMARY:Christmas Jumper Day- Whole School
DESCRIPTION:
URL:https://www.stjudes.wolverhampton.sch.uk/event/christmas-jumper-day-whole-school/
CATEGORIES:School Event
END:VEVENT
BEGIN:VEVENT
DTSTART;VALUE=DATE:20211215
DTEND;VALUE=DATE:20211216
DTSTAMP:20260421T191001
CREATED:20211012T204105Z
LAST-MODIFIED:20211012T204105Z
UID:2586-1639526400-1639612799@www.stjudes.wolverhampton.sch.uk
SUMMARY:Christmas Dinner- Whole School
DESCRIPTION:
URL:https://www.stjudes.wolverhampton.sch.uk/event/christmas-dinner-whole-school/
CATEGORIES:School Event
END:VEVENT
BEGIN:VEVENT
DTSTART;TZID=Europe/London:20211213T000000
DTEND;TZID=Europe/London:20211214T235900
DTSTAMP:20260421T191001
CREATED:20211012T203926Z
LAST-MODIFIED:20211012T203926Z
UID:2584-1639353600-1639526340@www.stjudes.wolverhampton.sch.uk
SUMMARY:Reception Nativity
DESCRIPTION:
URL:https://www.stjudes.wolverhampton.sch.uk/event/reception-nativity/
CATEGORIES:School Event
END:VEVENT
BEGIN:VEVENT
DTSTART;TZID=Europe/London:20211207T000000
DTEND;TZID=Europe/London:20211208T235900
DTSTAMP:20260421T191001
CREATED:20211012T203811Z
LAST-MODIFIED:20211012T203811Z
UID:2582-1638835200-1639007940@www.stjudes.wolverhampton.sch.uk
SUMMARY:Twos and Nursery Christmas Cheer
DESCRIPTION:
URL:https://www.stjudes.wolverhampton.sch.uk/event/twos-and-nursery-christmas-cheer/
CATEGORIES:School Event
END:VEVENT
BEGIN:VEVENT
DTSTART;TZID=Europe/London:20211202T000000
DTEND;TZID=Europe/London:20211203T235900
DTSTAMP:20260421T191001
CREATED:20211012T203604Z
LAST-MODIFIED:20211012T203638Z
UID:2579-1638403200-1638575940@www.stjudes.wolverhampton.sch.uk
SUMMARY:Year 1 Christmas Play
DESCRIPTION:
URL:https://www.stjudes.wolverhampton.sch.uk/event/year1-christmas-play/
CATEGORIES:School Event
END:VEVENT
BEGIN:VEVENT
DTSTART;VALUE=DATE:20211020
DTEND;VALUE=DATE:20211021
DTSTAMP:20260421T191001
CREATED:20211012T203345Z
LAST-MODIFIED:20211012T203345Z
UID:2577-1634688000-1634774399@www.stjudes.wolverhampton.sch.uk
SUMMARY:Year 5 and 6 Parent Meetings
DESCRIPTION:
URL:https://www.stjudes.wolverhampton.sch.uk/event/year-5-and-6-parent-meetings/
CATEGORIES:School Event
END:VEVENT
BEGIN:VEVENT
DTSTART;VALUE=DATE:20211019
DTEND;VALUE=DATE:20211020
DTSTAMP:20260421T191001
CREATED:20211012T202800Z
LAST-MODIFIED:20211012T203127Z
UID:2575-1634601600-1634687999@www.stjudes.wolverhampton.sch.uk
SUMMARY:Year 3 and 4 Parent Meetings
DESCRIPTION:
URL:https://www.stjudes.wolverhampton.sch.uk/event/year-3-and-4-parent-meetings/
CATEGORIES:School Event
END:VEVENT
BEGIN:VEVENT
DTSTART;VALUE=DATE:20211013
DTEND;VALUE=DATE:20211014
DTSTAMP:20260421T191001
CREATED:20211012T202630Z
LAST-MODIFIED:20211012T203222Z
UID:2573-1634083200-1634169599@www.stjudes.wolverhampton.sch.uk
SUMMARY:Year 1 and 2 Parent Meetings
DESCRIPTION:
URL:https://www.stjudes.wolverhampton.sch.uk/event/year-1-and-2-parent-meetings/
CATEGORIES:School Event
END:VEVENT
BEGIN:VEVENT
DTSTART;VALUE=DATE:20211012
DTEND;VALUE=DATE:20211013
DTSTAMP:20260421T191001
CREATED:20211012T202459Z
LAST-MODIFIED:20211012T202954Z
UID:2571-1633996800-1634083199@www.stjudes.wolverhampton.sch.uk
SUMMARY:Reception Parent Meetings
DESCRIPTION:
URL:https://www.stjudes.wolverhampton.sch.uk/event/reception-parent-meetings/
CATEGORIES:School Event
END:VEVENT
BEGIN:VEVENT
DTSTART;VALUE=DATE:20210528
DTEND;VALUE=DATE:20210529
DTSTAMP:20260421T191001
CREATED:20210520T190037Z
LAST-MODIFIED:20210520T190037Z
UID:2197-1622160000-1622246399@www.stjudes.wolverhampton.sch.uk
SUMMARY:Beach Themed Day
DESCRIPTION:Themed Beachwear day! Prizes for the most creative/brightest outfits.  Lunch will be provided for every pupil all dietary requirements will be met!
URL:https://www.stjudes.wolverhampton.sch.uk/event/beach-themed-day/
CATEGORIES:School Event
END:VEVENT
BEGIN:VEVENT
DTSTART;VALUE=DATE:20210325
DTEND;VALUE=DATE:20210326
DTSTAMP:20260421T191001
CREATED:20210316T224041Z
LAST-MODIFIED:20210316T224041Z
UID:2103-1616630400-1616716799@www.stjudes.wolverhampton.sch.uk
SUMMARY:School Photos
DESCRIPTION:
URL:https://www.stjudes.wolverhampton.sch.uk/event/school-photos/
CATEGORIES:School Event
END:VEVENT
BEGIN:VEVENT
DTSTART;VALUE=DATE:20210319
DTEND;VALUE=DATE:20210320
DTSTAMP:20260421T191001
CREATED:20210316T223827Z
LAST-MODIFIED:20210316T223827Z
UID:2157-1616112000-1616198399@www.stjudes.wolverhampton.sch.uk
SUMMARY:Comic Relief/ Sport Relief
DESCRIPTION:Own Clothes Day- £1 Donation
URL:https://www.stjudes.wolverhampton.sch.uk/event/comic-relief-sport-relief/
CATEGORIES:School Event
END:VEVENT
BEGIN:VEVENT
DTSTART;VALUE=DATE:20210301
DTEND;VALUE=DATE:20210302
DTSTAMP:20260421T191001
CREATED:20210222T201131Z
LAST-MODIFIED:20210222T201131Z
UID:1746-1614556800-1614643199@www.stjudes.wolverhampton.sch.uk
SUMMARY:New School Menu Starts
DESCRIPTION:
URL:https://www.stjudes.wolverhampton.sch.uk/event/new-school-menu-starts/
CATEGORIES:School Event
END:VEVENT
END:VCALENDAR