BEGIN:VCALENDAR
VERSION:2.0
PRODID:-//St Judes - ECPv6.15.20//NONSGML v1.0//EN
CALSCALE:GREGORIAN
METHOD:PUBLISH
X-ORIGINAL-URL:https://www.stjudes.wolverhampton.sch.uk
X-WR-CALDESC:Events for St Judes
REFRESH-INTERVAL;VALUE=DURATION:PT1H
X-Robots-Tag:noindex
X-PUBLISHED-TTL:PT1H
BEGIN:VTIMEZONE
TZID:Europe/London
BEGIN:DAYLIGHT
TZOFFSETFROM:+0000
TZOFFSETTO:+0100
TZNAME:BST
DTSTART:20230326T010000
END:DAYLIGHT
BEGIN:STANDARD
TZOFFSETFROM:+0100
TZOFFSETTO:+0000
TZNAME:GMT
DTSTART:20231029T010000
END:STANDARD
BEGIN:DAYLIGHT
TZOFFSETFROM:+0000
TZOFFSETTO:+0100
TZNAME:BST
DTSTART:20240331T010000
END:DAYLIGHT
BEGIN:STANDARD
TZOFFSETFROM:+0100
TZOFFSETTO:+0000
TZNAME:GMT
DTSTART:20241027T010000
END:STANDARD
BEGIN:DAYLIGHT
TZOFFSETFROM:+0000
TZOFFSETTO:+0100
TZNAME:BST
DTSTART:20250330T010000
END:DAYLIGHT
BEGIN:STANDARD
TZOFFSETFROM:+0100
TZOFFSETTO:+0000
TZNAME:GMT
DTSTART:20251026T010000
END:STANDARD
END:VTIMEZONE
BEGIN:VEVENT
DTSTART;TZID=Europe/London:20241104T080000
DTEND;TZID=Europe/London:20241220T170000
DTSTAMP:20260421T160402
CREATED:20241007T130251Z
LAST-MODIFIED:20241007T130251Z
UID:4419-1730707200-1734714000@www.stjudes.wolverhampton.sch.uk
SUMMARY:Autumn Term 2
DESCRIPTION:
URL:https://www.stjudes.wolverhampton.sch.uk/event/autumn-term-2-2/
CATEGORIES:Half Term
END:VEVENT
BEGIN:VEVENT
DTSTART;TZID=Europe/London:20241028T080000
DTEND;TZID=Europe/London:20241101T170000
DTSTAMP:20260421T160402
CREATED:20241007T132632Z
LAST-MODIFIED:20241007T132632Z
UID:4440-1730102400-1730480400@www.stjudes.wolverhampton.sch.uk
SUMMARY:Half Term
DESCRIPTION:
URL:https://www.stjudes.wolverhampton.sch.uk/event/half-term-2/
CATEGORIES:Half Term
END:VEVENT
BEGIN:VEVENT
DTSTART;TZID=Europe/London:20241025T080000
DTEND;TZID=Europe/London:20241025T170000
DTSTAMP:20260421T160402
CREATED:20241007T135047Z
LAST-MODIFIED:20241007T135047Z
UID:4483-1729843200-1729875600@www.stjudes.wolverhampton.sch.uk
SUMMARY:Non Uniform Day
DESCRIPTION:
URL:https://www.stjudes.wolverhampton.sch.uk/event/non-uniform-day/
CATEGORIES:School Event
END:VEVENT
BEGIN:VEVENT
DTSTART;TZID=Europe/London:20241021T150000
DTEND;TZID=Europe/London:20241021T173000
DTSTAMP:20260421T160402
CREATED:20241007T134916Z
LAST-MODIFIED:20241007T134916Z
UID:4479-1729522800-1729531800@www.stjudes.wolverhampton.sch.uk
SUMMARY:Parents Meetings- Reception
DESCRIPTION:
URL:https://www.stjudes.wolverhampton.sch.uk/event/parents-meetings-reception/
CATEGORIES:Parents Meeting
END:VEVENT
BEGIN:VEVENT
DTSTART;TZID=Europe/London:20241021T080000
DTEND;TZID=Europe/London:20241021T170000
DTSTAMP:20260421T160402
CREATED:20241007T135004Z
LAST-MODIFIED:20241007T135004Z
UID:4481-1729497600-1729530000@www.stjudes.wolverhampton.sch.uk
SUMMARY:RAF Cosford Visit- Year 1
DESCRIPTION:
URL:https://www.stjudes.wolverhampton.sch.uk/event/raf-cosford-visit-year-1/
CATEGORIES:Trip
END:VEVENT
BEGIN:VEVENT
DTSTART;TZID=Europe/London:20241017T150000
DTEND;TZID=Europe/London:20241017T173000
DTSTAMP:20260421T160402
CREATED:20241007T134712Z
LAST-MODIFIED:20241007T134712Z
UID:4477-1729177200-1729186200@www.stjudes.wolverhampton.sch.uk
SUMMARY:Parents Meetings- Year 5 and 6
DESCRIPTION:
URL:https://www.stjudes.wolverhampton.sch.uk/event/parents-meetings-year-5-and-6/
CATEGORIES:Parents Meeting
END:VEVENT
BEGIN:VEVENT
DTSTART;TZID=Europe/London:20241016T150000
DTEND;TZID=Europe/London:20241016T173000
DTSTAMP:20260421T160402
CREATED:20241007T134604Z
LAST-MODIFIED:20241007T134604Z
UID:4475-1729090800-1729099800@www.stjudes.wolverhampton.sch.uk
SUMMARY:Parents Meetings- Year 3 and 4
DESCRIPTION:
URL:https://www.stjudes.wolverhampton.sch.uk/event/parents-meetings-year-3-and-4/
CATEGORIES:Parents Meeting
END:VEVENT
BEGIN:VEVENT
DTSTART;TZID=Europe/London:20241015T150000
DTEND;TZID=Europe/London:20241015T173000
DTSTAMP:20260421T160402
CREATED:20241007T134450Z
LAST-MODIFIED:20241007T134809Z
UID:4472-1729004400-1729013400@www.stjudes.wolverhampton.sch.uk
SUMMARY:Parents Meetings- Year 1 and 2
DESCRIPTION:
URL:https://www.stjudes.wolverhampton.sch.uk/event/parents-meetings/
CATEGORIES:Parents Meeting
END:VEVENT
BEGIN:VEVENT
DTSTART;TZID=Europe/London:20241004T080000
DTEND;TZID=Europe/London:20241004T093000
DTSTAMP:20260421T160402
CREATED:20241007T134341Z
LAST-MODIFIED:20241007T135257Z
UID:4470-1728028800-1728034200@www.stjudes.wolverhampton.sch.uk
SUMMARY:St Jude's Community Breakfast
DESCRIPTION:
URL:https://www.stjudes.wolverhampton.sch.uk/event/st-judes-community-breakfast/
CATEGORIES:School Event
END:VEVENT
BEGIN:VEVENT
DTSTART;TZID=Europe/London:20241003T080000
DTEND;TZID=Europe/London:20241003T170000
DTSTAMP:20260421T160402
CREATED:20241007T134304Z
LAST-MODIFIED:20241007T134304Z
UID:4468-1727942400-1727974800@www.stjudes.wolverhampton.sch.uk
SUMMARY:Black Country Museum Visit- Year 4
DESCRIPTION:
URL:https://www.stjudes.wolverhampton.sch.uk/event/black-country-museum-visit-year-4/
CATEGORIES:Trip
END:VEVENT
BEGIN:VEVENT
DTSTART;TZID=Europe/London:20241003T080000
DTEND;TZID=Europe/London:20241003T170000
DTSTAMP:20260421T160402
CREATED:20241007T134225Z
LAST-MODIFIED:20241007T134225Z
UID:4466-1727942400-1727974800@www.stjudes.wolverhampton.sch.uk
SUMMARY:St Jude's Scrumptious Lunch
DESCRIPTION:
URL:https://www.stjudes.wolverhampton.sch.uk/event/st-judes-scrumptious-lunch/
CATEGORIES:School Event
END:VEVENT
BEGIN:VEVENT
DTSTART;TZID=Europe/London:20240927T080000
DTEND;TZID=Europe/London:20240927T170000
DTSTAMP:20260421T160402
CREATED:20241007T134153Z
LAST-MODIFIED:20241007T134153Z
UID:4464-1727424000-1727456400@www.stjudes.wolverhampton.sch.uk
SUMMARY:Natural History Museum London Visit- Year 6
DESCRIPTION:
URL:https://www.stjudes.wolverhampton.sch.uk/event/natural-history-museum-london-visit-year-6/
CATEGORIES:School Event
END:VEVENT
BEGIN:VEVENT
DTSTART;TZID=Europe/London:20240925T080000
DTEND;TZID=Europe/London:20240925T170000
DTSTAMP:20260421T160402
CREATED:20241007T134107Z
LAST-MODIFIED:20241007T134107Z
UID:4462-1727251200-1727283600@www.stjudes.wolverhampton.sch.uk
SUMMARY:Swimming Commences- Year 6
DESCRIPTION:
URL:https://www.stjudes.wolverhampton.sch.uk/event/swimming-commences-year-6/
CATEGORIES:School Event
END:VEVENT
BEGIN:VEVENT
DTSTART;TZID=Europe/London:20240924T080000
DTEND;TZID=Europe/London:20240924T170000
DTSTAMP:20260421T160402
CREATED:20241007T134035Z
LAST-MODIFIED:20241007T134035Z
UID:4460-1727164800-1727197200@www.stjudes.wolverhampton.sch.uk
SUMMARY:Swimming Commences- Year 5
DESCRIPTION:
URL:https://www.stjudes.wolverhampton.sch.uk/event/swimming-commences-year-5/
CATEGORIES:School Event
END:VEVENT
BEGIN:VEVENT
DTSTART;TZID=Europe/London:20240920T080000
DTEND;TZID=Europe/London:20240920T170000
DTSTAMP:20260421T160402
CREATED:20241007T133931Z
LAST-MODIFIED:20241007T133931Z
UID:4458-1726819200-1726851600@www.stjudes.wolverhampton.sch.uk
SUMMARY:Fundraising for West Midlands Free Wheelers
DESCRIPTION:
URL:https://www.stjudes.wolverhampton.sch.uk/event/fundraising-for-west-midlands-free-wheelers/
CATEGORIES:School Event
END:VEVENT
BEGIN:VEVENT
DTSTART;TZID=Europe/London:20240919T080000
DTEND;TZID=Europe/London:20240919T170000
DTSTAMP:20260421T160402
CREATED:20241007T133817Z
LAST-MODIFIED:20241007T133817Z
UID:4456-1726732800-1726765200@www.stjudes.wolverhampton.sch.uk
SUMMARY:Year 5 Visit to the Space Centre
DESCRIPTION:
URL:https://www.stjudes.wolverhampton.sch.uk/event/year-5-visit-to-the-space-centre/
CATEGORIES:Trip
END:VEVENT
BEGIN:VEVENT
DTSTART;TZID=Europe/London:20240913T080000
DTEND;TZID=Europe/London:20240913T170000
DTSTAMP:20260421T160402
CREATED:20241007T133700Z
LAST-MODIFIED:20241007T133700Z
UID:4454-1726214400-1726246800@www.stjudes.wolverhampton.sch.uk
SUMMARY:School Closed  to Reception
DESCRIPTION:
URL:https://www.stjudes.wolverhampton.sch.uk/event/school-closed-to-reception/
CATEGORIES:School Event
END:VEVENT
BEGIN:VEVENT
DTSTART;TZID=Europe/London:20240913T080000
DTEND;TZID=Europe/London:20240913T170000
DTSTAMP:20260421T160402
CREATED:20241007T133508Z
LAST-MODIFIED:20241007T133508Z
UID:4452-1726214400-1726246800@www.stjudes.wolverhampton.sch.uk
SUMMARY:Animal Man
DESCRIPTION:
URL:https://www.stjudes.wolverhampton.sch.uk/event/animal-man/
CATEGORIES:School Event
END:VEVENT
BEGIN:VEVENT
DTSTART;TZID=Europe/London:20240912T080000
DTEND;TZID=Europe/London:20240912T170000
DTSTAMP:20260421T160402
CREATED:20241007T133433Z
LAST-MODIFIED:20241007T133433Z
UID:4450-1726128000-1726160400@www.stjudes.wolverhampton.sch.uk
SUMMARY:Year 6 Information Evening
DESCRIPTION:
URL:https://www.stjudes.wolverhampton.sch.uk/event/year-6-information-evening/
CATEGORIES:School Event
END:VEVENT
BEGIN:VEVENT
DTSTART;TZID=Europe/London:20240902T080000
DTEND;TZID=Europe/London:20241025T170000
DTSTAMP:20260421T160402
CREATED:20241007T130111Z
LAST-MODIFIED:20241007T130111Z
UID:4417-1725264000-1729875600@www.stjudes.wolverhampton.sch.uk
SUMMARY:Autumn Term 1
DESCRIPTION:
URL:https://www.stjudes.wolverhampton.sch.uk/event/autumn-term-1-2/
CATEGORIES:Half Term
END:VEVENT
BEGIN:VEVENT
DTSTART;TZID=Europe/London:20240902T080000
DTEND;TZID=Europe/London:20240903T170000
DTSTAMP:20260421T160402
CREATED:20241007T132140Z
LAST-MODIFIED:20241007T132140Z
UID:4430-1725264000-1725382800@www.stjudes.wolverhampton.sch.uk
SUMMARY:Inset Day
DESCRIPTION:
URL:https://www.stjudes.wolverhampton.sch.uk/event/inset-day-24/
CATEGORIES:Inset Day
END:VEVENT
BEGIN:VEVENT
DTSTART;VALUE=DATE:20240705
DTEND;VALUE=DATE:20240706
DTSTAMP:20260421T160402
CREATED:20230814T135419Z
LAST-MODIFIED:20230814T135419Z
UID:3636-1720137600-1720223999@www.stjudes.wolverhampton.sch.uk
SUMMARY:Inset Day
DESCRIPTION:
URL:https://www.stjudes.wolverhampton.sch.uk/event/inset-day-22/
CATEGORIES:Inset Day
END:VEVENT
BEGIN:VEVENT
DTSTART;VALUE=DATE:20240603
DTEND;VALUE=DATE:20240720
DTSTAMP:20260421T160402
CREATED:20230814T135608Z
LAST-MODIFIED:20230814T135608Z
UID:3640-1717372800-1721433599@www.stjudes.wolverhampton.sch.uk
SUMMARY:Summer Term 2
DESCRIPTION:
URL:https://www.stjudes.wolverhampton.sch.uk/event/summer-term-2/
CATEGORIES:Half Term
END:VEVENT
BEGIN:VEVENT
DTSTART;VALUE=DATE:20240527
DTEND;VALUE=DATE:20240601
DTSTAMP:20260421T160402
CREATED:20230814T135718Z
LAST-MODIFIED:20230814T135741Z
UID:3642-1716768000-1717199999@www.stjudes.wolverhampton.sch.uk
SUMMARY:Summer Half Term Break
DESCRIPTION:
URL:https://www.stjudes.wolverhampton.sch.uk/event/summer-half-term-5/
CATEGORIES:Half Term
END:VEVENT
BEGIN:VEVENT
DTSTART;VALUE=DATE:20240408
DTEND;VALUE=DATE:20240525
DTSTAMP:20260421T160402
CREATED:20230814T135511Z
LAST-MODIFIED:20230814T135511Z
UID:3638-1712534400-1716595199@www.stjudes.wolverhampton.sch.uk
SUMMARY:Summer Term 1
DESCRIPTION:
URL:https://www.stjudes.wolverhampton.sch.uk/event/summer-term-1/
CATEGORIES:Half Term
END:VEVENT
BEGIN:VEVENT
DTSTART;VALUE=DATE:20240325
DTEND;VALUE=DATE:20240406
DTSTAMP:20260421T160402
CREATED:20230814T140014Z
LAST-MODIFIED:20230814T140014Z
UID:3647-1711324800-1712361599@www.stjudes.wolverhampton.sch.uk
SUMMARY:Easter Break
DESCRIPTION:
URL:https://www.stjudes.wolverhampton.sch.uk/event/easter-break-3/
CATEGORIES:Half Term
END:VEVENT
BEGIN:VEVENT
DTSTART;VALUE=DATE:20240219
DTEND;VALUE=DATE:20240220
DTSTAMP:20260421T160402
CREATED:20230814T135336Z
LAST-MODIFIED:20230814T135336Z
UID:3634-1708300800-1708387199@www.stjudes.wolverhampton.sch.uk
SUMMARY:Inset Day
DESCRIPTION:
URL:https://www.stjudes.wolverhampton.sch.uk/event/inset-day-21/
CATEGORIES:Inset Day
END:VEVENT
BEGIN:VEVENT
DTSTART;VALUE=DATE:20240219
DTEND;VALUE=DATE:20240323
DTSTAMP:20260421T160402
CREATED:20230814T135125Z
LAST-MODIFIED:20230814T135125Z
UID:3628-1708300800-1711151999@www.stjudes.wolverhampton.sch.uk
SUMMARY:Spring Term 2
DESCRIPTION:
URL:https://www.stjudes.wolverhampton.sch.uk/event/spring-term-2/
CATEGORIES:Half Term
END:VEVENT
BEGIN:VEVENT
DTSTART;VALUE=DATE:20240212
DTEND;VALUE=DATE:20240217
DTSTAMP:20260421T160402
CREATED:20230814T135224Z
LAST-MODIFIED:20230814T135801Z
UID:3630-1707696000-1708127999@www.stjudes.wolverhampton.sch.uk
SUMMARY:Spring Half Term Break
DESCRIPTION:
URL:https://www.stjudes.wolverhampton.sch.uk/event/spring-half-term-4/
CATEGORIES:Half Term
END:VEVENT
BEGIN:VEVENT
DTSTART;VALUE=DATE:20240109
DTEND;VALUE=DATE:20240110
DTSTAMP:20260421T160402
CREATED:20231020T133618Z
LAST-MODIFIED:20231020T133618Z
UID:3828-1704758400-1704844799@www.stjudes.wolverhampton.sch.uk
SUMMARY:Inset Day
DESCRIPTION:
URL:https://www.stjudes.wolverhampton.sch.uk/event/inset-day-23/
CATEGORIES:Inset Day
END:VEVENT
END:VCALENDAR